BEGIN:VCALENDAR
VERSION:2.0
PRODID:-//ChamberMaster//Event Calendar 2.0//EN
METHOD:PUBLISH
X-PUBLISHED-TTL:P3D
REFRESH-INTERVAL:P3D
CALSCALE:GREGORIAN
BEGIN:VEVENT
DTSTART:20260116T020000Z
DTEND:20260116T040000Z
X-MICROSOFT-CDO-ALLDAYEVENT:FALSE
SUMMARY:Abstracting Nature Exhbit
DESCRIPTION:Explore the boundary between the wild and the imagined. Join the library for "Abstracting Nature\," an exhibit of expressive\, interpretive art inspired by the peaceful beauty of the outdoors.
X-ALT-DESC;FMTTYPE=text/html:<span style="color: rgb(0\, 0\, 0)\; font-family: &quot\;Open Sans&quot\;\, ui-sans-serif\, system-ui\, -apple-system\, BlinkMacSystemFont\, &quot\;Segoe UI&quot\;\, Roboto\, &quot\;Helvetica Neue&quot\;\, Arial\, sans-serif\, &quot\;Apple Color Emoji&quot\;\, &quot\;Segoe UI Emoji&quot\;\, &quot\;Segoe UI Symbol&quot\;\, &quot\;Noto Color Emoji&quot\;\; font-size: 18px\;">Explore the boundary between the wild and the imagined. Join the library for &quot\;Abstracting Nature\,&quot\; an exhibit of expressive\, interpretive art inspired by the peaceful beauty of the outdoors.</span>
LOCATION:Belvedere Tiburon Library 1501 Tiburon Blvd
UID:e.3401.2140
SEQUENCE:3
DTSTAMP:20260421T093459Z
URL:https://business.tiburonchamber.org/events/details/abstracting-nature-exhbit-2140
END:VEVENT

END:VCALENDAR
