BEGIN:VCALENDAR
VERSION:2.0
PRODID:-//ChamberMaster//Event Calendar 2.0//EN
METHOD:PUBLISH
X-PUBLISHED-TTL:P3D
REFRESH-INTERVAL:P3D
CALSCALE:GREGORIAN
BEGIN:VEVENT
DTSTART:20250216T203000Z
DTEND:20250216T213000Z
X-MICROSOFT-CDO-ALLDAYEVENT:FALSE
SUMMARY:An Afternoon of Courage with October 7th Survivor Irene Shavit
DESCRIPTION:Join us in Tiburon on Sunday\, February 16th\, at 12:30 p.m.\, as we welcome Irene Shavit\, a survivor of October 7th\, who will share her powerful and deeply personal story. Irene\, a 23-year-old from Bitzaron\, was living with her partner\, Netta\, in Kfar Aza when their lives were shattered on that tragic day. After learning that Netta's grandmother and uncle had been murdered by terrorists\, the couple hid in their safe room. When the terrorists broke in\, Netta made the ultimate sacrifice jumping on a grenade to shield Irene. She survived by hiding under his body until she was rescued by the IDF hours later. This is a rare opportunity to bear witness to history and hear firsthand about the strength of the human spirit in the face of unimaginable adversity. Spread the word and invite your family and friends to this unforgettable and meaningful event.
X-ALT-DESC;FMTTYPE=text/html:Join us in Tiburon on Sunday\, February 16th\, at 12:30 p.m.\, as we welcome Irene Shavit\, a survivor of October 7th\, who will share her powerful and deeply personal story. Irene\, a 23-year-old from Bitzaron\, was living with her partner\, Netta\, in Kfar Aza when their lives were shattered on that tragic day. After learning that Netta&rsquo\;s grandmother and uncle had been murdered by terrorists\, the couple hid in their safe room. When the terrorists broke in\, Netta made the ultimate sacrifice&mdash\;jumping on a grenade to shield Irene. She survived by hiding under his body until she was rescued by the IDF hours later. This is a rare opportunity to bear witness to history and hear firsthand about the strength of the human spirit in the face of unimaginable adversity. Spread the word and invite your family and friends to this unforgettable and meaningful event.
LOCATION:501 San Rafael Ave\, Belvedere\, CA
UID:e.3401.1875
SEQUENCE:3
DTSTAMP:20260424T091757Z
URL:https://business.tiburonchamber.org/events/details/an-afternoon-of-courage-with-october-7th-survivor-irene-shavit-1875
END:VEVENT

END:VCALENDAR
