BEGIN:VCALENDAR
VERSION:2.0
PRODID:-//ChamberMaster//Event Calendar 2.0//EN
METHOD:PUBLISH
X-PUBLISHED-TTL:P3D
REFRESH-INTERVAL:P3D
CALSCALE:GREGORIAN
BEGIN:VEVENT
DTSTART:20260320T010000Z
DTEND:20260513T190000Z
X-MICROSOFT-CDO-ALLDAYEVENT:FALSE
SUMMARY:Art and Mass Culture: Commerce Meets Creativity
DESCRIPTION:Art and Mass Culture: Commerce Meets Creativity" explores the dynamic intersection between artistic expression and the visual language of mass production. Featuring works including but not limited to pop art\, comic books\, and manga\, this exhibition examines how artists have embraced\, and critiqued consumer culture through bold imagery\, commercial aesthetics\, and accessible storytelling. By blurring the lines between high art and popular media\, these genres challenge traditional hierarchies in the art world\, reflecting the influences of advertising\, entertainment\, and everyday life on contemporary visual culture.
X-ALT-DESC;FMTTYPE=text/html:Art and Mass Culture: Commerce Meets Creativity&rdquo\; explores the dynamic intersection between artistic expression and the visual language of mass production. Featuring works including but not limited to pop art\, comic books\, and manga\, this exhibition examines how artists have embraced\, and critiqued consumer culture through bold imagery\, commercial aesthetics\, and accessible storytelling. By blurring the lines between high art and popular media\, these genres challenge traditional hierarchies in the art world\, reflecting the influences of advertising\, entertainment\, and everyday life on contemporary visual culture.
LOCATION:Belvedere Tiburon Library
UID:e.3401.2306
SEQUENCE:3
DTSTAMP:20260424T014213Z
URL:https://business.tiburonchamber.org/events/details/art-and-mass-culture-commerce-meets-creativity-2306
END:VEVENT

END:VCALENDAR
