BEGIN:VCALENDAR
VERSION:2.0
PRODID:-//ChamberMaster//Event Calendar 2.0//EN
METHOD:PUBLISH
X-PUBLISHED-TTL:P3D
REFRESH-INTERVAL:P3D
CALSCALE:GREGORIAN
BEGIN:VEVENT
DTSTART:20231110T013000Z
DTEND:20231110T030000Z
X-MICROSOFT-CDO-ALLDAYEVENT:FALSE
SUMMARY:Author Talk with Jasmin Darznik
DESCRIPTION:Jasmin Darznik\, author of The Bohemians\, Song of a Captive Bird\, and The Good Daughter\, will discuss her books and career.\n\nShe is chair of the MFA Program in Writing at California College of the Arts in San Francisco. \n\nHer fourth book\, a novel set in Old Hollywood\, is forthcoming.
X-ALT-DESC;FMTTYPE=text/html:<p style="box-sizing: inherit\; border-width: 0px\; border-style: solid\; border-color: currentcolor\; --tw-shadow: 0 0 #0000\; --tw-ring-inset: var(--tw-empty\, )\; --tw-ring-offset-width: 0px\; --tw-ring-offset-color: #fff\; --tw-ring-color: rgba(59\, 130\, 246\, 0.5)\; --tw-ring-offset-shadow: 0 0 #0000\; --tw-ring-shadow: 0 0 #0000\; margin: 0px 0px 1rem\; caret-color: rgb(0\, 0\, 0)\; color: rgb(0\, 0\, 0)\; font-family: &quot\;Open Sans&quot\;\, ui-sans-serif\, system-ui\, -apple-system\, BlinkMacSystemFont\, &quot\;Segoe UI&quot\;\, Roboto\, &quot\;Helvetica Neue&quot\;\, Arial\, sans-serif\, &quot\;Apple Color Emoji&quot\;\, &quot\;Segoe UI Emoji&quot\;\, &quot\;Segoe UI Symbol&quot\;\, &quot\;Noto Color Emoji&quot\;\; font-size: 18px\;">Jasmin Darznik\, author of <a href="https://marinet.bibliocommons.com/v2/record/S113C2399208" rel="noopener" style="box-sizing: inherit\; border-width: 0px\; border-style: solid\; border-color: currentcolor\; --tw-shadow: 0 0 #0000\; --tw-ring-inset: var(--tw-empty\, )\; --tw-ring-offset-width: 0px\; --tw-ring-offset-color: #fff\; --tw-ring-color: rgba(59\, 130\, 246\, 0.5)\; --tw-ring-offset-shadow: 0 0 #0000\; --tw-ring-shadow: 0 0 #0000\; color: rgba(0\, 87\, 118\, var(--tw-text-opacity)) !important\; --tw-text-opacity: 1 !important\;" target="_blank">The Bohemians</a>\, <a href="https://marinet.bibliocommons.com/v2/record/S113C2275821" rel="noopener" style="box-sizing: inherit\; border-width: 0px\; border-style: solid\; border-color: currentcolor\; --tw-shadow: 0 0 #0000\; --tw-ring-inset: var(--tw-empty\, )\; --tw-ring-offset-width: 0px\; --tw-ring-offset-color: #fff\; --tw-ring-color: rgba(59\, 130\, 246\, 0.5)\; --tw-ring-offset-shadow: 0 0 #0000\; --tw-ring-shadow: 0 0 #0000\; color: rgba(0\, 87\, 118\, var(--tw-text-opacity)) !important\; --tw-text-opacity: 1 !important\;" target="_blank">Song of a Captive Bird</a>\, and&nbsp\;<a href="https://marinet.bibliocommons.com/v2/record/S113C1896385" rel="noopener" style="box-sizing: inherit\; border-width: 0px\; border-style: solid\; border-color: currentcolor\; --tw-shadow: 0 0 #0000\; --tw-ring-inset: var(--tw-empty\, )\; --tw-ring-offset-width: 0px\; --tw-ring-offset-color: #fff\; --tw-ring-color: rgba(59\, 130\, 246\, 0.5)\; --tw-ring-offset-shadow: 0 0 #0000\; --tw-ring-shadow: 0 0 #0000\; color: rgba(0\, 87\, 118\, var(--tw-text-opacity)) !important\; --tw-text-opacity: 1 !important\;" target="_blank">The Good Daughter</a>\, will discuss her books and career.</p>\n\n<p style="box-sizing: inherit\; border-width: 0px\; border-style: solid\; border-color: currentcolor\; --tw-shadow: 0 0 #0000\; --tw-ring-inset: var(--tw-empty\, )\; --tw-ring-offset-width: 0px\; --tw-ring-offset-color: #fff\; --tw-ring-color: rgba(59\, 130\, 246\, 0.5)\; --tw-ring-offset-shadow: 0 0 #0000\; --tw-ring-shadow: 0 0 #0000\; margin: 0px 0px 1rem\; caret-color: rgb(0\, 0\, 0)\; color: rgb(0\, 0\, 0)\; font-family: &quot\;Open Sans&quot\;\, ui-sans-serif\, system-ui\, -apple-system\, BlinkMacSystemFont\, &quot\;Segoe UI&quot\;\, Roboto\, &quot\;Helvetica Neue&quot\;\, Arial\, sans-serif\, &quot\;Apple Color Emoji&quot\;\, &quot\;Segoe UI Emoji&quot\;\, &quot\;Segoe UI Symbol&quot\;\, &quot\;Noto Color Emoji&quot\;\; font-size: 18px\;">She is chair of the MFA Program in Writing at California College of the Arts in San Francisco.&nbsp\;</p>\n\n<p style="box-sizing: inherit\; border-width: 0px\; border-style: solid\; border-color: currentcolor\; --tw-shadow: 0 0 #0000\; --tw-ring-inset: var(--tw-empty\, )\; --tw-ring-offset-width: 0px\; --tw-ring-offset-color: #fff\; --tw-ring-color: rgba(59\, 130\, 246\, 0.5)\; --tw-ring-offset-shadow: 0 0 #0000\; --tw-ring-shadow: 0 0 #0000\; margin: 0px 0px 1rem\; caret-color: rgb(0\, 0\, 0)\; color: rgb(0\, 0\, 0)\; font-family: &quot\;Open Sans&quot\;\, ui-sans-serif\, system-ui\, -apple-system\, BlinkMacSystemFont\, &quot\;Segoe UI&quot\;\, Roboto\, &quot\;Helvetica Neue&quot\;\, Arial\, sans-serif\, &quot\;Apple Color Emoji&quot\;\, &quot\;Segoe UI Emoji&quot\;\, &quot\;Segoe UI Symbol&quot\;\, &quot\;Noto Color Emoji&quot\;\; font-size: 18px\;">Her fourth book\, a novel set in Old Hollywood\, is forthcoming.</p>\n
LOCATION:
UID:e.3401.1659
SEQUENCE:3
DTSTAMP:20260421T120539Z
URL:https://business.tiburonchamber.org/events/details/author-talk-with-jasmin-darznik-1659
END:VEVENT

END:VCALENDAR
