BEGIN:VCALENDAR
VERSION:2.0
PRODID:-//ChamberMaster//Event Calendar 2.0//EN
METHOD:PUBLISH
X-PUBLISHED-TTL:P3D
REFRESH-INTERVAL:P3D
CALSCALE:GREGORIAN
BEGIN:VEVENT
DTSTART:20230923T010000Z
DTEND:20230923T020000Z
X-MICROSOFT-CDO-ALLDAYEVENT:FALSE
SUMMARY:Book Launch with Anita Gail Jones
DESCRIPTION:Book Launch with Author Anita Gail Jones\n\nfor her new book " The Peach Seed"
X-ALT-DESC;FMTTYPE=text/html:<br />\n<br />\nBook Launch with Author Anita Gail Jones<br />\nfor her new book &quot\; The Peach Seed&quot\;
LOCATION:10 Main Street
UID:e.3401.1664
SEQUENCE:3
DTSTAMP:20260422T051152Z
URL:https://business.tiburonchamber.org/events/details/book-launch-with-anita-gail-jones-1664
END:VEVENT

END:VCALENDAR
