BEGIN:VCALENDAR
VERSION:2.0
PRODID:-//ChamberMaster//Event Calendar 2.0//EN
METHOD:PUBLISH
X-PUBLISHED-TTL:P3D
REFRESH-INTERVAL:P3D
CALSCALE:GREGORIAN
BEGIN:VEVENT
DTSTART:20260312T000000Z
DTEND:20260312T013000Z
X-MICROSOFT-CDO-ALLDAYEVENT:FALSE
SUMMARY:Chamber Business Reception
DESCRIPTION:Join for our first business reception of 2026. Meet fellow business people\, and local store owners. Bring a business card to enter for prizes.
X-ALT-DESC;FMTTYPE=text/html:Join for our first business reception of 2026. Meet fellow business people\, and local store owners. Bring a business card to enter for prizes.
LOCATION:Salt & Pepper\, 38 Main St\, Tiburon
UID:e.3401.2305
SEQUENCE:3
DTSTAMP:20260421T132218Z
URL:https://business.tiburonchamber.org/events/details/chamber-business-reception-2305
END:VEVENT

END:VCALENDAR
