BEGIN:VCALENDAR
VERSION:2.0
PRODID:-//ChamberMaster//Event Calendar 2.0//EN
METHOD:PUBLISH
X-PUBLISHED-TTL:P3D
REFRESH-INTERVAL:P3D
CALSCALE:GREGORIAN
BEGIN:VEVENT
DTSTART:20181215T010000Z
DTEND:20181215T050000Z
X-MICROSOFT-CDO-ALLDAYEVENT:FALSE
SUMMARY:Come Aboard the Tamalpais! San Francisco's Lighted Boat Parade
DESCRIPTION:Come aboart the Tamalpais to watch San Francisco's Annual Parade of Boats!\n\n\n\nOnline tickets automatically give you a reservation. Reservations are required.\n\n	Please arrive early to find parking\n	Recommended to dress in layers\n	Jackets\, scarf and a camera!\n	NO high heels\n	Snacks and beverages are available to purchase from the cash bar
X-ALT-DESC;FMTTYPE=text/html:<br />\nCome aboart the Tamalpais to watch San Francisco&#39\;s Annual Parade of Boats!<br />\n<br />\nOnline tickets automatically give you a reservation. Reservations are required.\n<ul>\n	<li>Please arrive early to find parking</li>\n	<li>Recommended to dress in layers</li>\n	<li>Jackets\, scarf and a camera!</li>\n	<li>NO high heels</li>\n	<li>Snacks and beverages are available to purchase from the cash bar</li>\n</ul>\n<br />\n&nbsp\;
LOCATION:
UID:e.3401.609
SEQUENCE:3
DTSTAMP:20260420T203636Z
URL:https://business.tiburonchamber.org/events/details/come-aboard-the-tamalpais-san-francisco-s-lighted-boat-parade-609
END:VEVENT

END:VCALENDAR
