BEGIN:VCALENDAR
VERSION:2.0
PRODID:-//ChamberMaster//Event Calendar 2.0//EN
METHOD:PUBLISH
X-PUBLISHED-TTL:P3D
REFRESH-INTERVAL:P3D
CALSCALE:GREGORIAN
BEGIN:VEVENT
DTSTART:20190317T230000Z
DTEND:20190318T010000Z
X-MICROSOFT-CDO-ALLDAYEVENT:FALSE
SUMMARY:Ensemble Ari at Old St. Hilary's
DESCRIPTION:"Ari" is a Korean word with multiple meanings: big river\, wisdom and beauty. Ensemble Ari is a group of musicians in the Bay Area who share this quality with the community. The Ensemble will be performing lively show pieces for violin\, cello and piano by Astor Piazolla \, Vittorio Monti\, Gaspar Cassad \, and Bruno Ruviaro\, as well as the virtuosic masterpiece for piano trio by Maurice Ravel. Presented by: Belvedere-Tiburon Landmarks Society\, with generous support from Tiburon Heritage & Arts\, The Allen Foundation and Bank of Marin.
X-ALT-DESC;FMTTYPE=text/html:&ldquo\;Ari&rdquo\; is a Korean word with multiple meanings: big river\, wisdom and beauty. Ensemble Ari is a group of musicians in the Bay Area who share this quality with the community. The Ensemble will be performing lively show pieces for violin\, cello and piano by Astor Piazolla \, Vittorio Monti\, Gaspar Cassad&oacute\;\, and Bruno Ruviaro\, as well as the virtuosic masterpiece for piano trio by Maurice Ravel. Presented by: Belvedere-Tiburon Landmarks Society\, with generous support from Tiburon Heritage &amp\; Arts\, The Allen Foundation and Bank of Marin.
LOCATION:Old St. Hilary's Landmark
UID:e.3401.631
SEQUENCE:3
DTSTAMP:20260420T151127Z
URL:https://business.tiburonchamber.org/events/details/ensemble-ari-at-old-st-hilary-s-631
END:VEVENT

END:VCALENDAR
