BEGIN:VCALENDAR
VERSION:2.0
PRODID:-//ChamberMaster//Event Calendar 2.0//EN
METHOD:PUBLISH
X-PUBLISHED-TTL:P3D
REFRESH-INTERVAL:P3D
CALSCALE:GREGORIAN
BEGIN:VEVENT
DTSTART:20190221T013000Z
DTEND:20190221T030000Z
X-MICROSOFT-CDO-ALLDAYEVENT:FALSE
SUMMARY:February Chamber Mixer at The Knit House
DESCRIPTION:Come join us in celebration of the grand opening of the Knit House!  You will be thrilled by the amazing space owner Julie Stanton has created.
X-ALT-DESC;FMTTYPE=text/html:Come join us in celebration of the grand opening of the Knit House! &nbsp\;You will be thrilled by the amazing space owner Julie Stanton has created. &nbsp\;
LOCATION:32 Main Street\, Downtown Tiburon
UID:e.3401.624
SEQUENCE:3
DTSTAMP:20260420T164055Z
URL:https://business.tiburonchamber.org/events/details/february-chamber-mixer-at-the-knit-house-624
END:VEVENT

END:VCALENDAR
