BEGIN:VCALENDAR
VERSION:2.0
PRODID:-//ChamberMaster//Event Calendar 2.0//EN
METHOD:PUBLISH
X-PUBLISHED-TTL:P3D
REFRESH-INTERVAL:P3D
CALSCALE:GREGORIAN
BEGIN:VEVENT
DTSTART:20181119T000000Z
DTEND:20181119T010000Z
X-MICROSOFT-CDO-ALLDAYEVENT:FALSE
SUMMARY:Hiroya Tsukamoto Concert at Old Saint Hilary
DESCRIPTION:
X-ALT-DESC;FMTTYPE=text/html:
LOCATION:Old Saint Hilary Landmark\, 201 Esperanza\, Tiburon
UID:e.3401.2
SEQUENCE:3
DTSTAMP:20260420T223818Z
URL:https://business.tiburonchamber.org/events/details/hiroya-tsukamoto-concert-at-old-saint-hilary-2
END:VEVENT

END:VCALENDAR
