BEGIN:VCALENDAR
VERSION:2.0
PRODID:-//ChamberMaster//Event Calendar 2.0//EN
METHOD:PUBLISH
X-PUBLISHED-TTL:P3D
REFRESH-INTERVAL:P3D
CALSCALE:GREGORIAN
BEGIN:VEVENT
DTSTART:20190131T013000Z
DTEND:20190131T030000Z
X-MICROSOFT-CDO-ALLDAYEVENT:FALSE
SUMMARY:January Chamber Mixer at the Tiburon Firehouse
DESCRIPTION:Join us for the Tiburon Peninsula Chamber of Commerce Mixer at the Tiburon Fire Department!\n\n\n\nFree Admission!  Raffle Prizes!  $5 for one raffle ticket or $20 for five raffle tickets!
X-ALT-DESC;FMTTYPE=text/html:<span style="font-size:14px\;"><span style="font-family:verdana\;">Join us for the Tiburon Peninsula Chamber of Commerce Mixer at the Tiburon Fire Department!<br />\n<br />\nFree Admission! &nbsp\;Raffle Prizes! &nbsp\;$5 for one raffle ticket or $20 for five raffle tickets!</span></span>
LOCATION:Tiburon Fire Protection District Station 11 1679 Tiburon Blvd.\, Tiburon\, CA
UID:e.3401.611
SEQUENCE:3
DTSTAMP:20260420T185211Z
URL:https://business.tiburonchamber.org/events/details/january-chamber-mixer-at-the-tiburon-firehouse-611
END:VEVENT

END:VCALENDAR
