BEGIN:VCALENDAR
VERSION:2.0
PRODID:-//ChamberMaster//Event Calendar 2.0//EN
METHOD:PUBLISH
X-PUBLISHED-TTL:P3D
REFRESH-INTERVAL:P3D
CALSCALE:GREGORIAN
BEGIN:VEVENT
DTSTART:20251217T013000Z
DTEND:20251217T033000Z
X-MICROSOFT-CDO-ALLDAYEVENT:FALSE
SUMMARY:Kids Cookie Decorating
DESCRIPTION:Parents and kids bake and decorate gingerbread and lemon sugar cookies.  You'll leave with around a dozen beautifully decorated cookies!
X-ALT-DESC;FMTTYPE=text/html:Parents and kids bake and decorate gingerbread and lemon sugar cookies.&nbsp\; You&#39\;ll leave with around a dozen beautifully decorated cookies!
LOCATION:Highlow Larder 32 Main Street
UID:e.3401.2090
SEQUENCE:3
DTSTAMP:20260421T070217Z
URL:https://business.tiburonchamber.org/events/details/kids-cookie-decorating-2090
END:VEVENT

END:VCALENDAR
