BEGIN:VCALENDAR
VERSION:2.0
PRODID:-//ChamberMaster//Event Calendar 2.0//EN
METHOD:PUBLISH
X-PUBLISHED-TTL:P3D
REFRESH-INTERVAL:P3D
CALSCALE:GREGORIAN
BEGIN:VEVENT
DTSTART:20190212T193000Z
DTEND:20190212T213000Z
X-MICROSOFT-CDO-ALLDAYEVENT:FALSE
SUMMARY:Listen In - Tiburon Peninsula Chamber Speaker Series
DESCRIPTION:Join Gabriela Buich for an experiential session designed to increase self awareness and initiate positive change in your life.  Gabriela will be featured in the May edition of Marin Magazine.\n\n\n\nFor more information about Gariela\, please visit www.3cscoaching.com
X-ALT-DESC;FMTTYPE=text/html:<span style="font-size:16px\;"><span style="font-family:verdana\;"><span style="font-size:14px\;">Join&nbsp\;<span style="caret-color: rgba(26\, 26\, 26\, 0.701961)\; color: rgba(26\, 26\, 26\, 0.701961)\; text-align: center\; white-space: pre-wrap\;">Gabriela Buich </span>for an experiential session designed to increase self awareness and initiate positive change in your life. &nbsp\;Gabriela will be featured in the May edition of Marin Magazine.</span><br />\n<br />\n<span style="font-size:14px\;">For more information about Gariela\, please visit www.3cscoaching.com</span></span></span><br />\n<br />\n&nbsp\;
LOCATION:Champagne and appetizers will be served at the Servino Ristorante Upstairs Banquet Room
UID:e.3401.614
SEQUENCE:3
DTSTAMP:20260420T163444Z
URL:https://business.tiburonchamber.org/events/details/listen-in-tiburon-peninsula-chamber-speaker-series-614
END:VEVENT

END:VCALENDAR
