BEGIN:VCALENDAR
VERSION:2.0
PRODID:-//ChamberMaster//Event Calendar 2.0//EN
METHOD:PUBLISH
X-PUBLISHED-TTL:P3D
REFRESH-INTERVAL:P3D
CALSCALE:GREGORIAN
BEGIN:VEVENT
DTSTART:20190328T003000Z
DTEND:20190328T020000Z
X-MICROSOFT-CDO-ALLDAYEVENT:FALSE
SUMMARY:March Madness Chamber Mixer hosted by The Ranch
DESCRIPTION:Get ready for some March Madness at our March Mixer hosted by The Ranch!
X-ALT-DESC;FMTTYPE=text/html:Get ready for some March Madness at our March Mixer hosted by The Ranch!&nbsp\;
LOCATION:600 Ned's Way\, Tiburon
UID:e.3401.626
SEQUENCE:3
DTSTAMP:20260420T145549Z
URL:https://business.tiburonchamber.org/events/details/march-madness-chamber-mixer-hosted-by-the-ranch-626
END:VEVENT

END:VCALENDAR
