BEGIN:VCALENDAR
VERSION:2.0
PRODID:-//ChamberMaster//Event Calendar 2.0//EN
METHOD:PUBLISH
X-PUBLISHED-TTL:P3D
REFRESH-INTERVAL:P3D
CALSCALE:GREGORIAN
BEGIN:VEVENT
DTSTART:20190314T010000Z
DTEND:20190314T033000Z
X-MICROSOFT-CDO-ALLDAYEVENT:FALSE
SUMMARY:Public Forum
DESCRIPTION:"Managing California Water in a Time of Change\," with Felicia Marcus\, CA Water Resources Control Board Reception is from 6-7pm Talk and Audience Q&A begins at 7pm Mention California water and inevitably comments arise about water wars\, adages about fighting about water and drinking whiskey\, and a whole host of seemingly intractable and contrary statements on what the challenges are and what the solutions are. Whatever one thinks the challenges are\, they are all made far more difficult by what climate change has in store for us and require that we move beyond the traditional rhetoric to common sense and sometimes complex solutions. Ms. Marcus will attempt to demystify the California water picture by outlining some of the basics\, some of the challenges\, and some of the solutions that are at our fingertips as well as those that require us to reach beyond our comfort zone.
X-ALT-DESC;FMTTYPE=text/html:&quot\;Managing California Water in a Time of Change\,&quot\; with Felicia Marcus\, CA Water Resources Control Board Reception is from 6-7pm Talk and Audience Q&amp\;A begins at 7pm Mention California water and inevitably comments arise about water wars\, adages about fighting about water and drinking whiskey\, and a whole host of seemingly intractable and contrary statements on what the challenges are and what the solutions are. Whatever one thinks the challenges are\, they are all made far more difficult by what climate change has in store for us and require that we move beyond the traditional rhetoric to common sense and sometimes complex solutions. Ms. Marcus will attempt to demystify the California water picture by outlining some of the basics\, some of the challenges\, and some of the solutions that are at our fingertips as well as those that require us to reach beyond our comfort zone.
LOCATION:Bay Conference Center - NORTH GATE EOS Center 3152 Paradise Drive
UID:e.3401.635
SEQUENCE:3
DTSTAMP:20260420T145716Z
URL:https://business.tiburonchamber.org/events/details/public-forum-635
END:VEVENT

END:VCALENDAR
