BEGIN:VCALENDAR
VERSION:2.0
PRODID:-//ChamberMaster//Event Calendar 2.0//EN
METHOD:PUBLISH
X-PUBLISHED-TTL:P3D
REFRESH-INTERVAL:P3D
CALSCALE:GREGORIAN
BEGIN:VEVENT
DTSTART:20181208T200000Z
DTEND:20181209T000000Z
X-MICROSOFT-CDO-ALLDAYEVENT:FALSE
SUMMARY:Ruth Livingston Studio Grand Opening
DESCRIPTION:Celebrate the holidays with Ruth Livingston Studio's Grand Opening! Enjoy Bubbles and Nibbles while you shop.
X-ALT-DESC;FMTTYPE=text/html:Celebrate the holidays with Ruth Livingston Studio&rsquo\;s Grand Opening! Enjoy Bubbles and Nibbles while you shop.
LOCATION:74 Main Street\, Tiburon\, CA
UID:e.3401.607
SEQUENCE:3
DTSTAMP:20260420T204231Z
URL:https://business.tiburonchamber.org/events/details/ruth-livingston-studio-grand-opening-607
END:VEVENT

END:VCALENDAR
