BEGIN:VCALENDAR
VERSION:2.0
PRODID:-//ChamberMaster//Event Calendar 2.0//EN
METHOD:PUBLISH
X-PUBLISHED-TTL:P3D
REFRESH-INTERVAL:P3D
CALSCALE:GREGORIAN
BEGIN:VEVENT
DTSTART:20230522T013000Z
DTEND:20231016T030000Z
X-MICROSOFT-CDO-ALLDAYEVENT:FALSE
SUMMARY:Sunset Cruise
DESCRIPTION:As the day ends and the evening begins\, join the crew of the Angel Island   Tiburon Ferry and experience the natural splendor of the San Francisco Bay aboard their exclusive Sunset Cruise!\n\n\n\nEnjoy the unique view from the water\, including the breathtaking sights of Tiburon\, Belvedere\, Sausalito\, San Francisco\, the Golden Gate Bridge\, Angel Island\, and the surrounding areas. Bring your own dinner for a picnic on the bay! Tables and chairs both outside and inside are provided. Boarding is first come first serve.
X-ALT-DESC;FMTTYPE=text/html:<br />\nAs the day ends and the evening begins\, join the crew of the Angel Island &ndash\; Tiburon Ferry and experience the natural splendor of the San Francisco Bay aboard their exclusive Sunset Cruise!<br />\n<br />\nEnjoy the unique view from the water\, including the breathtaking sights of Tiburon\, Belvedere\, Sausalito\, San Francisco\, the Golden Gate Bridge\, Angel Island\, and the surrounding areas. Bring your own dinner for a picnic on the bay! Tables and chairs both outside and inside are provided. Boarding is first come first serve.
LOCATION:Tiburon Ferry Terminal 21 Main Street\, Tiburon\, CA 94920
UID:e.3401.1599
SEQUENCE:3
DTSTAMP:20260425T031818Z
URL:https://business.tiburonchamber.org/events/details/sunset-cruise-05-21-2023-1599
END:VEVENT

END:VCALENDAR
