BEGIN:VCALENDAR
VERSION:2.0
PRODID:-//ChamberMaster//Event Calendar 2.0//EN
METHOD:PUBLISH
X-PUBLISHED-TTL:P3D
REFRESH-INTERVAL:P3D
CALSCALE:GREGORIAN
BEGIN:VEVENT
DTSTART:20190311T233000Z
DTEND:20190312T003000Z
X-MICROSOFT-CDO-ALLDAYEVENT:FALSE
SUMMARY:Teens Discuss Rachel Carson's "The Sea Around Us" w/ EOS Grad
DESCRIPTION:Led by EOS Center grad student Caitlin Hall\, the group will be discussing Rachel Carson's "The Sea Around Us." Pizza will be served. Published in 1951\, The Sea Around Us is one of the most remarkably successful books ever written about the natural world. Rachel Carson's rare ability to combine scientific insight with moving\, poetic prose catapulted her book to first place on The New York Times best-seller list\, where it enjoyed wide attention for thirty-one consecutive weeks. It remained on the list for more than a year and a half and ultimately sold well over a million copies\, has been translated into 28 languages\, inspired an Academy Award-winning documentary\, and won both the 1952 National Book Award and the John Burroughs Medal. This classic work remains as fresh today as when it first appeared. Carson's writing teems with stunning\, memorable images--the newly formed Earth cooling beneath an endlessly overcast sky\; the centuries of nonstop rain that created the oceans\; giant squids battling sperm whales hundreds of fathoms below the surface\; and incredibly powerful tides moving 100 billion tons of water daily in the Bay of Fundy. Quite simply\, she captures the mystery and allure of the ocean with a compelling blend of imagination and expertise.
X-ALT-DESC;FMTTYPE=text/html:Led by EOS Center grad student Caitlin Hall\, the group will be discussing Rachel Carson&#39\;s &quot\;The Sea Around Us.&quot\; Pizza will be served. Published in 1951\, The Sea Around Us is one of the most remarkably successful books ever written about the natural world. Rachel Carson&#39\;s rare ability to combine scientific insight with moving\, poetic prose catapulted her book to first place on The New York Times best-seller list\, where it enjoyed wide attention for thirty-one consecutive weeks. It remained on the list for more than a year and a half and ultimately sold well over a million copies\, has been translated into 28 languages\, inspired an Academy Award-winning documentary\, and won both the 1952 National Book Award and the John Burroughs Medal. This classic work remains as fresh today as when it first appeared. Carson&#39\;s writing teems with stunning\, memorable images--the newly formed Earth cooling beneath an endlessly overcast sky\; the centuries of nonstop rain that created the oceans\; giant squids battling sperm whales hundreds of fathoms below the surface\; and incredibly powerful tides moving 100 billion tons of water daily in the Bay of Fundy. Quite simply\, she captures the mystery and allure of the ocean with a compelling blend of imagination and expertise.
LOCATION:Belvedere Tiburon Library
UID:e.3401.632
SEQUENCE:3
DTSTAMP:20260420T151243Z
URL:https://business.tiburonchamber.org/events/details/teens-discuss-rachel-carson-s-the-sea-around-us-w-eos-grad-632
END:VEVENT

END:VCALENDAR
